BEGIN:VCALENDAR
PRODID:-//kirchenweb.ch gmbh//veranstaltungsausgabe v2.0//DE
VERSION:2.0
METHOD:PUBLISH
BEGIN:VEVENT
DTSTART:20260509T160000Z
DTEND:20260509T210000Z
LOCATION:Kirchgemeindehaus\, Kirchweg 8a\, 8274 Tägerwilen
TRANSP:OPAQUE
SEQUENCE:0
UID:4828-veranstaltung@evang-taegerwilen.ch
DTSTAMP:20260420T092848Z
DESCRIPTION:Grow ist für Sek-Abgänger\, die gemeinsam etwas
  unternehmen\, Gemeinschaft erleben und im Glauben weiterkommen möchten.
  Neben verschiedenen Aktivitäten gehört jedes Mal auch ein kurzer
  geistlicher Teil dazu.\n\nKontakt:
  patrick.phiaphakdy@evang-taegerwilen.ch\n\nWeitere Infos:
  https://www.evang-taegerwilen.ch/veranstaltung/4828
SUMMARY:Grow
PRIORITY:5
X-MICROSOFT-CDO-IMPORTANCE:1
CLASS:PUBLIC
END:VEVENT
END:VCALENDAR
