BEGIN:VCALENDAR
PRODID:-//kirchenweb.ch gmbh//veranstaltungsausgabe v2.0//DE
VERSION:2.0
METHOD:PUBLISH
BEGIN:VEVENT
DTSTART:20260426T083000Z
DTEND:20260426T093000Z
LOCATION:Evang. Kirche Tägerwilen\, Pflanzbergstrasse\, 8274 Tägerwilen
TRANSP:OPAQUE
SEQUENCE:0
UID:4161-veranstaltung@evang-taegerwilen.ch
DTSTAMP:20260311T133154Z
DESCRIPTION:Kontakt: Elsbeth Müller\, Pflanzbergstrasse 6\, 8274
  Tägerwilen\, elsbeth.mueller@evang-taegerwilen.ch\, 078 888 06 26\n
 \nWeitere Infos: https://www.evang-taegerwilen.ch/veranstaltung/4161
SUMMARY:Teens-Träff
PRIORITY:5
X-MICROSOFT-CDO-IMPORTANCE:1
CLASS:PUBLIC
END:VEVENT
END:VCALENDAR
