BEGIN:VCALENDAR
PRODID:-//kirchenweb.ch gmbh//veranstaltungsausgabe v2.0//DE
VERSION:2.0
METHOD:PUBLISH
BEGIN:VEVENT
DTSTART:20260427T070000Z
DTEND:20260427T080000Z
LOCATION:KW8\, Kirchweg 8\, 8274 Tägerwilen
TRANSP:OPAQUE
SEQUENCE:0
UID:4006-veranstaltung@evang-taegerwilen.ch
DTSTAMP:20251217T085445Z
DESCRIPTION:Morgengebet am Montag in ökumenischer Offenheit ohne
  Anmeldung\,\njeweils Montags ausser an Feiertagen und in den Sommerferien
 \n\nKontakt: Rosmarie Züllig\nzuellig.hugener@bluewin.ch\nTelefon 071 669
  21 66\n\nWeitere Infos:
  https://www.evang-taegerwilen.ch/veranstaltung/4006
SUMMARY:Morgengebet am Montag
PRIORITY:5
X-MICROSOFT-CDO-IMPORTANCE:1
CLASS:PUBLIC
END:VEVENT
END:VCALENDAR
