BEGIN:VCALENDAR
PRODID:-//kirchenweb.ch gmbh//veranstaltungsausgabe v2.0//DE
VERSION:2.0
METHOD:PUBLISH
BEGIN:VEVENT
DTSTART:20260503T150000Z
DTEND:20260503T161500Z
LOCATION:KW8\, Kirchweg 8\, 8274 Tägerwilen
TRANSP:OPAQUE
SEQUENCE:0
UID:3986-veranstaltung@evang-taegerwilen.ch
DTSTAMP:20260227T140425Z
DESCRIPTION:Kontakt: Verena Bösch\, Pflanzbergstrasse 6\, 8274
  Tägerwilen\, verena.boesch@evang-taegerwilen.ch\, 077 486 51 93\n
 \nWeitere Infos: https://www.evang-taegerwilen.ch/veranstaltung/3986
SUMMARY:Kids-Träff
PRIORITY:5
X-MICROSOFT-CDO-IMPORTANCE:1
CLASS:PUBLIC
END:VEVENT
END:VCALENDAR
