BEGIN:VCALENDAR
PRODID:-//kirchenweb.ch gmbh//veranstaltungsausgabe v2.0//DE
VERSION:2.0
METHOD:PUBLISH
BEGIN:VEVENT
DTSTART:20260428T173000Z
DTEND:20260428T183000Z
LOCATION:Kirchgemeindehaus\, Kirchweg 8a\, 8274 Tägerwilen
TRANSP:OPAQUE
SEQUENCE:0
UID:3919-veranstaltung@evang-taegerwilen.ch
DTSTAMP:20251204T104543Z
DESCRIPTION:Möchtest du tiefer in die Bibel eintauchen? Möchtest du dich
  von anderen und ihrem Verständnis der Bibel inspirieren lassen? Einmal
  im Monat am Dienstagabend um 19.30 Uhr treffen wir uns im
  Kirchgemeindehaus und lesen gemeinsam einen Bibeltext. \n\nDie Teilnahme
  ist offen für alle. Eine Anmeldung ist nicht nötig. Du brauchst keine
  Vorkenntnisse\, nur Interesse und Offenheit für den Austausch.\n
 \nKontakt: Pfr.  Philipp Widler\, Pflanzbergstrasse 6\, 8274 Tägerwilen\,
  philipp.widler@evang-taegerwilen.ch\, 071 669 21 73\n\nWeitere Infos:
  https://www.evang-taegerwilen.ch/veranstaltung/3919
SUMMARY:Bibel.Fokus
PRIORITY:5
X-MICROSOFT-CDO-IMPORTANCE:1
CLASS:PUBLIC
END:VEVENT
END:VCALENDAR
