BEGIN:VCALENDAR
PRODID:-//kirchenweb.ch gmbh//veranstaltungsausgabe v2.0//DE
VERSION:2.0
METHOD:PUBLISH
BEGIN:VEVENT
DTSTART:20260504T170000Z
DTEND:20260504T183000Z
LOCATION:Neues Kirchgemeindehaus\, Kirchweg 8a\, 8274 Tägerwilen
TRANSP:OPAQUE
SEQUENCE:0
UID:3907-veranstaltung@evang-taegerwilen.ch
DTSTAMP:20251217T080740Z
DESCRIPTION:Kontakt: Regula Sieber\, Pflanzbergstr. 6\, 8274 Tägerwilen\,
  regula.sieber@evang-taegerwilen.ch\n\nWeitere Infos:
  https://www.evang-taegerwilen.ch/veranstaltung/3907
SUMMARY:singArt\, lockerer Singabend
PRIORITY:5
X-MICROSOFT-CDO-IMPORTANCE:1
CLASS:PUBLIC
END:VEVENT
END:VCALENDAR
