BEGIN:VCALENDAR
PRODID:-//kirchenweb.ch gmbh//veranstaltungsausgabe v2.0//DE
VERSION:2.0
METHOD:PUBLISH
BEGIN:VEVENT
DTSTART:20260503T150000Z
DTEND:20260503T170000Z
LOCATION:Evang. Kirche Tägerwilen\, Pflanzbergstrasse\, 8274 Tägerwilen
TRANSP:OPAQUE
SEQUENCE:0
UID:3859-veranstaltung@evang-taegerwilen.ch
DTSTAMP:20260227T124805Z
DESCRIPTION:Predigt: Hanna Röthlisberger\n\n\nDas START UP-Format ist
  für alle Generationen\, daher gibt es an diesen Sonntagen keinen
  zusätzlichen\, traditionellen Gottesdienst am Vormittag. Dieser
  Gottesdienst ist in einer jungen Sprache\, modern und dynamisch
  gestaltet. Er wird begleitet von einer Live-Band. Die Predigten haben
  relevante Themen mit Tiefgang. Vor und nach dem Gottesdienst ist die Bar
  mit Getränken geöffnet. Organisiert wird der START UP von freiwillig
  mitarbeitenden jungen Erwachsenen. Wir freuen uns\, wenn wir uns begegnen
  im und nach dem Gottesdienst.\n\nKontakt: Hanna Röthlisberger\n\nWeitere
  Infos: https://www.evang-taegerwilen.ch/veranstaltung/3859
SUMMARY:START UP-Gottesdienst
PRIORITY:5
X-MICROSOFT-CDO-IMPORTANCE:1
CLASS:PUBLIC
END:VEVENT
END:VCALENDAR
