BEGIN:VCALENDAR
PRODID:-//kirchenweb.ch gmbh//veranstaltungsausgabe v2.0//DE
VERSION:2.0
METHOD:PUBLISH
BEGIN:VEVENT
DTSTART:20260426T083000Z
DTEND:20260426T093000Z
LOCATION:Evang. Kirche Tägerwilen\, Pflanzbergstrasse\, 8274 Tägerwilen
TRANSP:OPAQUE
SEQUENCE:0
UID:3858-veranstaltung@evang-taegerwilen.ch
DTSTAMP:20260416T072236Z
DESCRIPTION:Kontakt: Verena Bösch\, Pflanzbergstrasse 6\, 8274
  Tägerwilen\, verena.boesch@evang-taegerwilen.ch\, 077 486 51 93\n
 \nWeitere Infos: https://www.evang-taegerwilen.ch/veranstaltung/3858
SUMMARY:Abschlussgottesdienst zu den Kinderferientagen
PRIORITY:5
X-MICROSOFT-CDO-IMPORTANCE:1
CLASS:PUBLIC
END:VEVENT
END:VCALENDAR
