BEGIN:VCALENDAR
PRODID:-//kirchenweb.ch gmbh//veranstaltungsausgabe v2.0//DE
VERSION:2.0
METHOD:PUBLISH
BEGIN:VEVENT
DTSTART:20260424T080000Z
DTEND:20260424T090000Z
LOCATION:Alterszentrum Bindergarten\, Im Bindersgarten 3\, 8274
  Tägerwilen
TRANSP:OPAQUE
SEQUENCE:0
UID:3797-veranstaltung@evang-taegerwilen.ch
DTSTAMP:20251023T070715Z
DESCRIPTION:Kontakt: Jens Spangenberg\, Pfarreiseelsorger\n058 346 19 53\,
  079 963 07 96\njens.spangenberg@kath-kreuzlingen.ch\n\n\nWeitere Infos:
  https://www.evang-taegerwilen.ch/veranstaltung/3797
SUMMARY:Kath. Gottesdienst im Bindersgarten in ökum. Offenheit
PRIORITY:5
X-MICROSOFT-CDO-IMPORTANCE:1
CLASS:PUBLIC
END:VEVENT
END:VCALENDAR
