BEGIN:VCALENDAR
PRODID:-//kirchenweb.ch gmbh//veranstaltungsausgabe v2.0//DE
VERSION:2.0
METHOD:PUBLISH
BEGIN:VEVENT
DTSTART:20260508T080000Z
DTEND:20260508T090000Z
LOCATION:Alterszentrum Bindersgarten\, Bindersgarten\, 8274 Tägerwilen
TRANSP:OPAQUE
SEQUENCE:0
UID:3713-veranstaltung@evang-taegerwilen.ch
DTSTAMP:20260116T132158Z
DESCRIPTION:Kontakt: Schwester Susanne Oberhänsli\, Pflanzbergstrasse 6\,
  8274 Tägerwilen\, susanne.oberhaensli@evang-taegerwilen.ch\, 079 727 57
  37\n\nWeitere Infos: https://www.evang-taegerwilen.ch/veranstaltung/3713
SUMMARY:Gottesdienst im Bindersgarten in ökum. Offenheit
PRIORITY:5
X-MICROSOFT-CDO-IMPORTANCE:1
CLASS:PUBLIC
END:VEVENT
END:VCALENDAR
