BEGIN:VCALENDAR
PRODID:-//kirchenweb.ch gmbh//veranstaltungsausgabe v2.0//DE
VERSION:2.0
METHOD:PUBLISH
BEGIN:VEVENT
DTSTART:20260509T070000Z
DTEND:20260509T100000Z
LOCATION:Evang. Kirche Tägerwilen\, Pflanzbergstrasse\, 8274 Tägerwilen
TRANSP:OPAQUE
SEQUENCE:0
UID:3525-veranstaltung@evang-taegerwilen.ch
DTSTAMP:20250704T061348Z
DESCRIPTION:Kontakt: philipp.widler@evang-taegerwilen.ch\n\nWeitere Infos:
  https://www.evang-taegerwilen.ch/veranstaltung/3525
SUMMARY:Konfirmations-Probe
PRIORITY:5
X-MICROSOFT-CDO-IMPORTANCE:1
CLASS:PUBLIC
END:VEVENT
END:VCALENDAR
