BEGIN:VCALENDAR
PRODID:-//kirchenweb.ch gmbh//veranstaltungsausgabe v2.0//DE
VERSION:2.0
METHOD:PUBLISH
BEGIN:VEVENT
DTSTART:20260423T160000Z
DTEND:20260423T190000Z
LOCATION:Neues Kirchgemeindehaus\, Kirchweg 8\, 8274 Tägerwilen
TRANSP:OPAQUE
SEQUENCE:0
UID:3522-veranstaltung@evang-taegerwilen.ch
DTSTAMP:20260319T140859Z
DESCRIPTION:Kontakt: Pfr.  Philipp Widler\, Pflanzbergstrasse 6\, 8274
  Tägerwilen\, philipp.widler@evang-taegerwilen.ch\, 071 669 21 73 &
  Verena Bösch\, Pflanzbergstrasse 6\, 8274 Tägerwilen\,
  verena.boesch@evang-taegerwilen.ch\, 077 486 51 93\n\nWeitere Infos:
  https://www.evang-taegerwilen.ch/veranstaltung/3522
SUMMARY:Konfirmationsunterricht
PRIORITY:5
X-MICROSOFT-CDO-IMPORTANCE:1
CLASS:PUBLIC
END:VEVENT
END:VCALENDAR
