BEGIN:VCALENDAR
PRODID:-//kirchenweb.ch gmbh//veranstaltungsausgabe v2.0//DE
VERSION:2.0
METHOD:PUBLISH
BEGIN:VEVENT
DTSTART:20260508T163000Z
DTEND:20260508T190000Z
LOCATION:Neues Kirchgemeindehaus\, Kirchweg 8\, 8274 Tägerwilen
TRANSP:OPAQUE
SEQUENCE:0
UID:3424-veranstaltung@evang-taegerwilen.ch
DTSTAMP:20250515T115706Z
DESCRIPTION:Kontakt: Elsbeth Müller\, Pflanzbergstrasse 6\, 8274
  Tägerwilen\, elsbeth.mueller@evang-taegerwilen.ch\, 078 888 06 26\n
 \nWeitere Infos: https://www.evang-taegerwilen.ch/veranstaltung/3424
SUMMARY:JAM (5. und 6. Klasse)
PRIORITY:5
X-MICROSOFT-CDO-IMPORTANCE:1
CLASS:PUBLIC
END:VEVENT
END:VCALENDAR
