BEGIN:VCALENDAR
PRODID:-//kirchenweb.ch gmbh//veranstaltungsausgabe v2.0//DE
VERSION:2.0
METHOD:PUBLISH
BEGIN:VEVENT
DTSTART:20260509T120000Z
DTEND:20260509T150000Z
LOCATION:Treffpunkt wird jeweils bekanntgegeben.\, Kirchweg 8\, 8274
  Tägerwilen\, Kirchweg 8a\, 8274 Tägerwilen
TRANSP:OPAQUE
SEQUENCE:0
UID:3368-veranstaltung@evang-taegerwilen.ch
DTSTAMP:20250515T100001Z
DESCRIPTION:Kontakt: Verena Bösch\, Pflanzbergstrasse 6\, 8274
  Tägerwilen\, verena.boesch@evang-taegerwilen.ch\, 077 486 51 93\n
 \nWeitere Infos: https://www.evang-taegerwilen.ch/veranstaltung/3368
SUMMARY:Jungschar "Vollträffer"
PRIORITY:5
X-MICROSOFT-CDO-IMPORTANCE:1
CLASS:PUBLIC
END:VEVENT
END:VCALENDAR
