BEGIN:VCALENDAR
PRODID:-//kirchenweb.ch gmbh//veranstaltungsausgabe v2.0//DE
VERSION:2.0
METHOD:PUBLISH
BEGIN:VEVENT
DTSTART:20260423T180000Z
DTEND:20260423T200000Z
LOCATION:Evang. Kirche Tägerwilen\, Pflanzbergstrasse\, 8274 Tägerwilen
TRANSP:OPAQUE
SEQUENCE:0
UID:2435-veranstaltung@evang-taegerwilen.ch
DTSTAMP:20251029T085334Z
DESCRIPTION:Ende April/Anfang Mai findet in der Kirche Tägerwilen jeweils
  die Rechnungsgemeindeversammlung für das vergangene Jahr statt\, Ende
  November bzw. Anfang Dezember laden wir jeweils zur
  Budgetgemeindeversammlung ein. \n\nDie Vorsteherschaft lädt zur
  ordentlichenGemeindeversammlung in der Kirche Tägerwilen ein und freut
  sich\, wenn Sie zahlreich an der Versammlung teilnehmen und damit Ihre
  Verbundenheit und Ihr Interesse an einer lebendigen Kirchgemeinde zeigen.
 \n\nKontakt: Andrea Freund\, Stationsstrasse 18\, 8274 Tägerwilen\,
  andrea.freund@evang-taegerwilen.ch\, 078 670 51 49\n\nWeitere Infos:
  https://www.evang-taegerwilen.ch/veranstaltung/2435
SUMMARY:Kirchgemeindeversammlung
PRIORITY:5
X-MICROSOFT-CDO-IMPORTANCE:1
CLASS:PUBLIC
END:VEVENT
END:VCALENDAR
